BEGIN:VCALENDAR
VERSION:2.0
PRODID:-//wp-events-plugin.com//7.0.4//EN
TZID:Europe/Berlin
X-WR-TIMEZONE:Europe/Berlin
BEGIN:VEVENT
UID:76@berg-hohenstaufen.de
DTSTART;TZID=Europe/Berlin:20240720T090000
DTEND;TZID=Europe/Berlin:20240720T180000
DTSTAMP:20240219T091557Z
URL:https://berg-hohenstaufen.de/events/brotbacken-mit-den-bergbackbuben/
SUMMARY:Brotbacken mit den Bergbackbuben
DESCRIPTION:Sa. 20.07. | 9 Uhr – 18 Uhr\nBrotbacken mit den Bergbackbuben
 \n\nFreuen Sie sich auf einen entspannten Tag. Zuerst wird der Teig geknet
 et und seine Entwicklung begleitet. Wir bereiten den Holzofen mit der rich
 tigen Hitze vor\, lernen Brotlaibe formen und das Einschießen. Es bleibt 
 viel Zeit zum Reden und Kennenlernen. Am Spätnachmittag genießen wir gem
 einsam unser frisch gebackenes Brot bei einem schwäbischen Vesper.\n\nInk
 lusive Vesper und einem Holzofenbrot zum Mitnehmen. Preis: 35 Euro
ATTACH;FMTTYPE=image/jpeg:https://berg-hohenstaufen.de/wp-content/uploads/
 2024/02/Brot-auf-blauem-Tuch-scaled.jpg
END:VEVENT
BEGIN:VTIMEZONE
TZID:Europe/Berlin
X-LIC-LOCATION:Europe/Berlin
BEGIN:DAYLIGHT
DTSTART:20240331T030000
TZOFFSETFROM:+0100
TZOFFSETTO:+0200
TZNAME:CEST
END:DAYLIGHT
END:VTIMEZONE
END:VCALENDAR