BEGIN:VCALENDAR
VERSION:2.0
PRODID:-//wp-events-plugin.com//7.0.4//EN
TZID:Europe/Berlin
X-WR-TIMEZONE:Europe/Berlin
BEGIN:VEVENT
UID:166@berg-hohenstaufen.de
DTSTART;TZID=Europe/Berlin:20260313T193000
DTEND;TZID=Europe/Berlin:20260313T220000
DTSTAMP:20260309T151014Z
URL:https://berg-hohenstaufen.de/events/quiz-abend-mit-ob-alex-maier-2/
SUMMARY:Quiz-Abend mit OB Alex Maier
DESCRIPTION:Zum weiten Mal moderiert der Göppinger Oberbürgermeister Alex
  Maier den unterhaltsamen Quiz-Abend voller spannender Rätsel querbeet du
 rch die unterschiedlichsten Themengebiete - es ist für jeden etwas dabei.
  In lockerer Atmosphäre steht nicht der Wettbewerb\, sondern der Spaß am
  gemeinsamen Rätseln im Vordergrund - perfekt\, um mit Freunden herzhaft 
 zu lachen und zu grübeln\, dabei um die Ecke zu denken und ganz nebenbei 
 Neues zu entdecken.\n\nTeilnahmegebühr: 10 Euro\n\nAusgebucht\n
ATTACH;FMTTYPE=image/jpeg:https://berg-hohenstaufen.de/wp-content/uploads/
 2026/02/FRAGEZEICHEN-1.jpg
END:VEVENT
BEGIN:VTIMEZONE
TZID:Europe/Berlin
X-LIC-LOCATION:Europe/Berlin
BEGIN:STANDARD
DTSTART:20251026T020000
TZOFFSETFROM:+0200
TZOFFSETTO:+0100
TZNAME:CET
END:STANDARD
END:VTIMEZONE
END:VCALENDAR