BEGIN:VCALENDAR
VERSION:2.0
PRODID:-//wp-events-plugin.com//7.0.4//EN
TZID:Europe/Berlin
X-WR-TIMEZONE:Europe/Berlin
BEGIN:VEVENT
UID:161@berg-hohenstaufen.de
DTSTART;TZID=Europe/Berlin:20260717T190000
DTEND;TZID=Europe/Berlin:20260717T220000
DTSTAMP:20260302T110449Z
URL:https://berg-hohenstaufen.de/events/whisky-summer-night-2/
SUMMARY:Whisky-Summer-Night
DESCRIPTION:Mit Mharcus  MacHau´r haben wir einen fachkundigen und authent
 ischen Whiskykenner eingeladen. Mit musikalischen Einlagen nd spannenden G
 eschichten rund um die schottischen Clans und das Verhältnis zum englisch
 en Nachbarland\, erleben wir ein unterhaltsames und geselliges Whiskytasti
 ng.\n\nGrundlage ist ein deftiger Irish-Stew mit Holzofenbrot.\n(alternati
 v vegetarische / vegane Maultaschen mit Blattsalat)\nPreis: 48 Euro.
ATTACH;FMTTYPE=image/jpeg:https://berg-hohenstaufen.de/wp-content/uploads/
 2026/02/Foto-Whisky-scaled.jpg
END:VEVENT
BEGIN:VTIMEZONE
TZID:Europe/Berlin
X-LIC-LOCATION:Europe/Berlin
BEGIN:DAYLIGHT
DTSTART:20260329T030000
TZOFFSETFROM:+0100
TZOFFSETTO:+0200
TZNAME:CEST
END:DAYLIGHT
END:VTIMEZONE
END:VCALENDAR